BEGIN:VCALENDAR
VERSION:2.0
PRODID:icalendar-ruby
CALSCALE:GREGORIAN
BEGIN:VTIMEZONE
TZID:America/New_York
BEGIN:DAYLIGHT
DTSTART:19700426T030000
TZOFFSETFROM:-0500
TZOFFSETTO:-0400
RRULE:FREQ=YEARLY;BYDAY=-1SU;BYMONTH=4
TZNAME:EDT
END:DAYLIGHT
BEGIN:STANDARD
DTSTART:19701025T010000
TZOFFSETFROM:-0400
TZOFFSETTO:-0500
RRULE:FREQ=YEARLY;BYDAY=-1SU;BYMONTH=10
TZNAME:EST
END:STANDARD
END:VTIMEZONE
BEGIN:VEVENT
DTSTAMP:20210513T153532Z
UID:20e45c6c-fe6c-4160-a743-4d12a94f6bc9
DTSTART;TZID=America/New_York:20180125T150000
DTEND;TZID=America/New_York:20180125T150000
DESCRIPTION:3:00 PM
LOCATION:300-A Subcommittee Room\, 3rd Floor Pocahontas Bldg.
SUMMARY:House Committee Agenda - Appropriations - Compensation and General 
 Government Subcommittee
END:VEVENT
END:VCALENDAR
