BEGIN:VCALENDAR
VERSION:2.0
PRODID:icalendar-ruby
CALSCALE:GREGORIAN
BEGIN:VTIMEZONE
TZID:America/New_York
BEGIN:DAYLIGHT
DTSTART:19700426T030000
TZOFFSETFROM:-0500
TZOFFSETTO:-0400
RRULE:FREQ=YEARLY;BYDAY=-1SU;BYMONTH=4
TZNAME:EDT
END:DAYLIGHT
BEGIN:STANDARD
DTSTART:19701025T010000
TZOFFSETFROM:-0400
TZOFFSETTO:-0500
RRULE:FREQ=YEARLY;BYDAY=-1SU;BYMONTH=10
TZNAME:EST
END:STANDARD
END:VTIMEZONE
BEGIN:VEVENT
DTSTAMP:20210514T103303Z
UID:7bc3e995-cba3-41a4-a8fd-82ceade87d89
DTSTART;TZID=America/New_York:20180205T130000
DTEND;TZID=America/New_York:20180205T130000
DESCRIPTION:45 minutes after adjournment of the House
LOCATION:Shared Committee Room  (E007)\, Ground Floor\, Pocahontas Bldg
SUMMARY:House Committee Agenda - Appropriations - Higher Education Subcommi
 ttee
END:VEVENT
END:VCALENDAR
