BEGIN:VCALENDAR
VERSION:2.0
PRODID:icalendar-ruby
CALSCALE:GREGORIAN
BEGIN:VTIMEZONE
TZID:America/New_York
BEGIN:DAYLIGHT
DTSTART:19700426T030000
TZOFFSETFROM:-0500
TZOFFSETTO:-0400
RRULE:FREQ=YEARLY;BYDAY=-1SU;BYMONTH=4
TZNAME:EDT
END:DAYLIGHT
BEGIN:STANDARD
DTSTART:19701025T010000
TZOFFSETFROM:-0400
TZOFFSETTO:-0500
RRULE:FREQ=YEARLY;BYDAY=-1SU;BYMONTH=10
TZNAME:EST
END:STANDARD
END:VTIMEZONE
BEGIN:VEVENT
DTSTAMP:20210513T153526Z
UID:235111d3-6128-4d00-a8b0-3d98a09463c9
DTSTART;TZID=America/New_York:20180201T153000
DTEND;TZID=America/New_York:20180201T153000
DESCRIPTION:3:30 PM
LOCATION:300-A Subcommittee Room
SUMMARY:House Committee Agenda - Appropriations - Compensation and General 
 Government Subcommittee
END:VEVENT
END:VCALENDAR
