BEGIN:VCALENDAR
VERSION:2.0
PRODID:icalendar-ruby
CALSCALE:GREGORIAN
BEGIN:VTIMEZONE
TZID:America/New_York
BEGIN:DAYLIGHT
DTSTART:19700426T030000
TZOFFSETFROM:-0500
TZOFFSETTO:-0400
RRULE:FREQ=YEARLY;BYDAY=-1SU;BYMONTH=4
TZNAME:EDT
END:DAYLIGHT
BEGIN:STANDARD
DTSTART:19701025T010000
TZOFFSETFROM:-0400
TZOFFSETTO:-0500
RRULE:FREQ=YEARLY;BYDAY=-1SU;BYMONTH=10
TZNAME:EST
END:STANDARD
END:VTIMEZONE
BEGIN:VEVENT
DTSTAMP:20210514T103259Z
UID:fda8d95e-45d6-4f1c-bc0d-cd258df78066
DTSTART;TZID=America/New_York:20180226T150000
DTEND;TZID=America/New_York:20180226T150000
DESCRIPTION:1/2 hour after House adjournment
LOCATION:Shared Committee Room (E007)\, Ground Floor\, Pocahontas Bldg\,
SUMMARY:House Committee Agenda - Appropriations - Higher Education Subcommi
 ttee
END:VEVENT
END:VCALENDAR
