BEGIN:VCALENDAR
VERSION:2.0
PRODID:icalendar-ruby
CALSCALE:GREGORIAN
BEGIN:VTIMEZONE
TZID:America/New_York
BEGIN:DAYLIGHT
DTSTART:19700426T030000
TZOFFSETFROM:-0500
TZOFFSETTO:-0400
RRULE:FREQ=YEARLY;BYDAY=-1SU;BYMONTH=4
TZNAME:EDT
END:DAYLIGHT
BEGIN:STANDARD
DTSTART:19701025T010000
TZOFFSETFROM:-0400
TZOFFSETTO:-0500
RRULE:FREQ=YEARLY;BYDAY=-1SU;BYMONTH=10
TZNAME:EST
END:STANDARD
END:VTIMEZONE
BEGIN:VEVENT
DTSTAMP:20210519T225731Z
UID:b834b156-255a-4959-adb8-1e3c441bc591
DTSTART;TZID=America/New_York:20180301T160000
DTEND;TZID=America/New_York:20180301T160000
DESCRIPTION:4:00 PM
LOCATION:300-A Subcommittee Room\, 3rd Floor Pocahontas Bldg.
SUMMARY:House Committee Agenda - Appropriations - Transportation and Public
  Safety Subcommittee
END:VEVENT
END:VCALENDAR
