BEGIN:VCALENDAR
VERSION:2.0
PRODID:icalendar-ruby
CALSCALE:GREGORIAN
BEGIN:VTIMEZONE
TZID:America/New_York
BEGIN:DAYLIGHT
DTSTART:19700426T030000
TZOFFSETFROM:-0500
TZOFFSETTO:-0400
RRULE:FREQ=YEARLY;BYDAY=-1SU;BYMONTH=4
TZNAME:EDT
END:DAYLIGHT
BEGIN:STANDARD
DTSTART:19701025T010000
TZOFFSETFROM:-0400
TZOFFSETTO:-0500
RRULE:FREQ=YEARLY;BYDAY=-1SU;BYMONTH=10
TZNAME:EST
END:STANDARD
END:VTIMEZONE
BEGIN:VEVENT
DTSTAMP:20210514T200125Z
UID:19cc5ccc-a163-4f0a-b284-1c7b9be05ecf
DTSTART;TZID=America/New_York:20190116T150000
DTEND;TZID=America/New_York:20190116T150000
DESCRIPTION:3:00 PM
LOCATION:Shared Committee Room
SUMMARY:House Committee Agenda - Appropriations - Commerce\, Agriculture an
 d Natural Resources Subcommittee 
END:VEVENT
END:VCALENDAR
