BEGIN:VCALENDAR
VERSION:2.0
PRODID:icalendar-ruby
CALSCALE:GREGORIAN
BEGIN:VTIMEZONE
TZID:America/New_York
BEGIN:DAYLIGHT
DTSTART:19700426T030000
TZOFFSETFROM:-0500
TZOFFSETTO:-0400
RRULE:FREQ=YEARLY;BYDAY=-1SU;BYMONTH=4
TZNAME:EDT
END:DAYLIGHT
BEGIN:STANDARD
DTSTART:19701025T010000
TZOFFSETFROM:-0400
TZOFFSETTO:-0500
RRULE:FREQ=YEARLY;BYDAY=-1SU;BYMONTH=10
TZNAME:EST
END:STANDARD
END:VTIMEZONE
BEGIN:VEVENT
DTSTAMP:20210514T235812Z
UID:f180c7c3-590d-4131-8b98-428226c6a8a2
DTSTART;TZID=America/New_York:20190129T160000
DTEND;TZID=America/New_York:20190129T160000
DESCRIPTION:4:00 pm
LOCATION:Shared Committee Room
SUMMARY:House Committee Agenda - Appropriations - Health and Human Resource
 s Subcommittee
END:VEVENT
END:VCALENDAR
