BEGIN:VCALENDAR
VERSION:2.0
PRODID:icalendar-ruby
CALSCALE:GREGORIAN
BEGIN:VTIMEZONE
TZID:America/New_York
BEGIN:DAYLIGHT
DTSTART:19700426T030000
TZOFFSETFROM:-0500
TZOFFSETTO:-0400
RRULE:FREQ=YEARLY;BYDAY=-1SU;BYMONTH=4
TZNAME:EDT
END:DAYLIGHT
BEGIN:STANDARD
DTSTART:19701025T010000
TZOFFSETFROM:-0400
TZOFFSETTO:-0500
RRULE:FREQ=YEARLY;BYDAY=-1SU;BYMONTH=10
TZNAME:EST
END:STANDARD
END:VTIMEZONE
BEGIN:VEVENT
DTSTAMP:20210513T084157Z
UID:e8fb57eb-6f00-48ff-bf19-2e5fd6b9eb1a
DTSTART;TZID=America/New_York:20200207T124500
DTEND;TZID=America/New_York:20200207T124500
DESCRIPTION:½ hour after adjournment of House
LOCATION:Shared Committee Room
SUMMARY:House Committee Agenda - Appropriations - Commerce\, Agriculture an
 d Natural Resources Subcommittee 
END:VEVENT
END:VCALENDAR
