BEGIN:VCALENDAR
VERSION:2.0
PRODID:icalendar-ruby
CALSCALE:GREGORIAN
BEGIN:VTIMEZONE
TZID:America/New_York
BEGIN:DAYLIGHT
DTSTART:19700426T030000
TZOFFSETFROM:-0500
TZOFFSETTO:-0400
RRULE:FREQ=YEARLY;BYDAY=-1SU;BYMONTH=4
TZNAME:EDT
END:DAYLIGHT
BEGIN:STANDARD
DTSTART:19701025T010000
TZOFFSETFROM:-0400
TZOFFSETTO:-0500
RRULE:FREQ=YEARLY;BYDAY=-1SU;BYMONTH=10
TZNAME:EST
END:STANDARD
END:VTIMEZONE
BEGIN:VEVENT
DTSTAMP:20210513T084152Z
UID:e038381b-a1e3-4835-8e6c-b3fe43b2d58f
DTSTART;TZID=America/New_York:20200226T150000
DTEND;TZID=America/New_York:20200226T150000
DESCRIPTION:Upon the 1st House Recess
LOCATION:House Room 2
SUMMARY:House Committee Agenda - Appropriations - Commerce\, Agriculture an
 d Natural Resources Subcommittee 
END:VEVENT
END:VCALENDAR
