BEGIN:VCALENDAR
VERSION:2.0
PRODID:icalendar-ruby
CALSCALE:GREGORIAN
BEGIN:VTIMEZONE
TZID:America/New_York
BEGIN:DAYLIGHT
DTSTART:19700426T030000
TZOFFSETFROM:-0500
TZOFFSETTO:-0400
RRULE:FREQ=YEARLY;BYDAY=-1SU;BYMONTH=4
TZNAME:EDT
END:DAYLIGHT
BEGIN:STANDARD
DTSTART:19701025T010000
TZOFFSETFROM:-0400
TZOFFSETTO:-0500
RRULE:FREQ=YEARLY;BYDAY=-1SU;BYMONTH=10
TZNAME:EST
END:STANDARD
END:VTIMEZONE
BEGIN:VEVENT
DTSTAMP:20210512T020805Z
UID:3a10a002-df20-4682-a2d8-5fb8421480d0
DTSTART;TZID=America/New_York:20200902T130000
DTEND;TZID=America/New_York:20200902T130000
DESCRIPTION:Immediately upon adjournment of House
LOCATION:Virtual Meeting
SUMMARY:House Committee Agenda - Appropriations
END:VEVENT
END:VCALENDAR
