BEGIN:VCALENDAR
VERSION:2.0
PRODID:icalendar-ruby
CALSCALE:GREGORIAN
BEGIN:VTIMEZONE
TZID:America/New_York
BEGIN:DAYLIGHT
DTSTART:19700426T030000
TZOFFSETFROM:-0500
TZOFFSETTO:-0400
RRULE:FREQ=YEARLY;BYDAY=-1SU;BYMONTH=4
TZNAME:EDT
END:DAYLIGHT
BEGIN:STANDARD
DTSTART:19701025T010000
TZOFFSETFROM:-0400
TZOFFSETTO:-0500
RRULE:FREQ=YEARLY;BYDAY=-1SU;BYMONTH=10
TZNAME:EST
END:STANDARD
END:VTIMEZONE
BEGIN:VEVENT
DTSTAMP:20210512T020802Z
UID:40ffe7a9-bb02-42f5-86fe-837268127e64
DTSTART;TZID=America/New_York:20200903T100000
DTEND;TZID=America/New_York:20200903T100000
DESCRIPTION:10:00 AM
LOCATION:Virtual Meeting
SUMMARY:House Committee Agenda - Appropriations
END:VEVENT
END:VCALENDAR
