BEGIN:VCALENDAR
VERSION:2.0
PRODID:icalendar-ruby
CALSCALE:GREGORIAN
BEGIN:VTIMEZONE
TZID:America/New_York
BEGIN:DAYLIGHT
DTSTART:19700426T030000
TZOFFSETFROM:-0500
TZOFFSETTO:-0400
RRULE:FREQ=YEARLY;BYDAY=-1SU;BYMONTH=4
TZNAME:EDT
END:DAYLIGHT
BEGIN:STANDARD
DTSTART:19701025T010000
TZOFFSETFROM:-0400
TZOFFSETTO:-0500
RRULE:FREQ=YEARLY;BYDAY=-1SU;BYMONTH=10
TZNAME:EST
END:STANDARD
END:VTIMEZONE
BEGIN:VEVENT
DTSTAMP:20210520T202953Z
UID:a24396a7-d085-4817-83d1-f54a5c11d979
DTSTART;TZID=America/New_York:20210113T123000
DTEND;TZID=America/New_York:20210113T123000
DESCRIPTION:½ hour after adjournment of House
LOCATION:Virtual Meeting
SUMMARY:House Committee Agenda - Agriculture Chesapeake and Natural Resourc
 es
END:VEVENT
END:VCALENDAR
