BEGIN:VCALENDAR
VERSION:2.0
PRODID:icalendar-ruby
CALSCALE:GREGORIAN
BEGIN:VTIMEZONE
TZID:America/New_York
BEGIN:DAYLIGHT
DTSTART:19700426T030000
TZOFFSETFROM:-0500
TZOFFSETTO:-0400
RRULE:FREQ=YEARLY;BYDAY=-1SU;BYMONTH=4
TZNAME:EDT
END:DAYLIGHT
BEGIN:STANDARD
DTSTART:19701025T010000
TZOFFSETFROM:-0400
TZOFFSETTO:-0500
RRULE:FREQ=YEARLY;BYDAY=-1SU;BYMONTH=10
TZNAME:EST
END:STANDARD
END:VTIMEZONE
BEGIN:VEVENT
DTSTAMP:20210520T202950Z
UID:b3bc6c65-b81b-4a34-9720-6b62eb157cda
DTSTART;TZID=America/New_York:20210120T130000
DTEND;TZID=America/New_York:20210120T130000
DESCRIPTION:01:00 PM
LOCATION:Virtual Meeting
SUMMARY:House Committee Agenda - Agriculture Chesapeake and Natural Resourc
 es
END:VEVENT
END:VCALENDAR
