BEGIN:VCALENDAR
VERSION:2.0
PRODID:icalendar-ruby
CALSCALE:GREGORIAN
BEGIN:VTIMEZONE
TZID:America/New_York
BEGIN:DAYLIGHT
DTSTART:19700426T030000
TZOFFSETFROM:-0500
TZOFFSETTO:-0400
RRULE:FREQ=YEARLY;BYDAY=-1SU;BYMONTH=4
TZNAME:EDT
END:DAYLIGHT
BEGIN:STANDARD
DTSTART:19701025T010000
TZOFFSETFROM:-0400
TZOFFSETTO:-0500
RRULE:FREQ=YEARLY;BYDAY=-1SU;BYMONTH=10
TZNAME:EST
END:STANDARD
END:VTIMEZONE
BEGIN:VEVENT
DTSTAMP:20210515T133040Z
UID:37a98de4-a38c-4398-9cde-8da4a26c656d
DTSTART;TZID=America/New_York:20210122T163000
DTEND;TZID=America/New_York:20210122T163000
DESCRIPTION:30 Minutes adjournment of House Floor Session
LOCATION:Virtual Meeting
SUMMARY:House Committee Agenda - Courts of Justice - Criminal Subcommittee 
END:VEVENT
END:VCALENDAR
