BEGIN:VCALENDAR
VERSION:2.0
PRODID:icalendar-ruby
CALSCALE:GREGORIAN
BEGIN:VTIMEZONE
TZID:America/New_York
BEGIN:DAYLIGHT
DTSTART:19700426T030000
TZOFFSETFROM:-0500
TZOFFSETTO:-0400
RRULE:FREQ=YEARLY;BYDAY=-1SU;BYMONTH=4
TZNAME:EDT
END:DAYLIGHT
BEGIN:STANDARD
DTSTART:19701025T010000
TZOFFSETFROM:-0400
TZOFFSETTO:-0500
RRULE:FREQ=YEARLY;BYDAY=-1SU;BYMONTH=10
TZNAME:EST
END:STANDARD
END:VTIMEZONE
BEGIN:VEVENT
DTSTAMP:20210603T071830Z
UID:5c947cbb-b656-4bf6-9e06-a57d38013708
DTSTART;TZID=America/New_York:20210211T090000
DTEND;TZID=America/New_York:20210211T090000
DESCRIPTION:09:00 AM
LOCATION:Virtual Meeting
SUMMARY:House Committee Agenda - Transportation
END:VEVENT
END:VCALENDAR
