BEGIN:VCALENDAR
VERSION:2.0
PRODID:icalendar-ruby
CALSCALE:GREGORIAN
BEGIN:VTIMEZONE
TZID:America/New_York
BEGIN:DAYLIGHT
DTSTART:19700426T030000
TZOFFSETFROM:-0500
TZOFFSETTO:-0400
RRULE:FREQ=YEARLY;BYDAY=-1SU;BYMONTH=4
TZNAME:EDT
END:DAYLIGHT
BEGIN:STANDARD
DTSTART:19701025T010000
TZOFFSETFROM:-0400
TZOFFSETTO:-0500
RRULE:FREQ=YEARLY;BYDAY=-1SU;BYMONTH=10
TZNAME:EST
END:STANDARD
END:VTIMEZONE
BEGIN:VEVENT
DTSTAMP:20210927T043326Z
UID:bde221ae-b951-40f9-bf21-6c82c20c1eb2
DTSTART;TZID=America/New_York:20210222T170000
DTEND;TZID=America/New_York:20210222T170000
DESCRIPTION:Immediately after House adjourns
LOCATION:Virtual Meeting
SUMMARY:House Committee Agenda - Rules
END:VEVENT
END:VCALENDAR
