BEGIN:VCALENDAR
VERSION:2.0
PRODID:icalendar-ruby
CALSCALE:GREGORIAN
BEGIN:VTIMEZONE
TZID:America/New_York
BEGIN:DAYLIGHT
DTSTART:19700426T030000
TZOFFSETFROM:-0500
TZOFFSETTO:-0400
RRULE:FREQ=YEARLY;BYDAY=-1SU;BYMONTH=4
TZNAME:EDT
END:DAYLIGHT
BEGIN:STANDARD
DTSTART:19701025T010000
TZOFFSETFROM:-0400
TZOFFSETTO:-0500
RRULE:FREQ=YEARLY;BYDAY=-1SU;BYMONTH=10
TZNAME:EST
END:STANDARD
END:VTIMEZONE
BEGIN:VEVENT
DTSTAMP:20210513T084140Z
UID:ae0c9c8d-2eee-4a76-84e4-f0c4aefad532
DTSTART;TZID=America/New_York:20160217T100000
DTEND;TZID=America/New_York:20160217T100000
DESCRIPTION:10:00 a.m.
LOCATION:Appropriations Room
SUMMARY:House Committee Agenda - Appropriations - Capital Outlay Subcommitt
 ee
END:VEVENT
END:VCALENDAR
