BEGIN:VCALENDAR
VERSION:2.0
PRODID:icalendar-ruby
CALSCALE:GREGORIAN
BEGIN:VTIMEZONE
TZID:America/New_York
BEGIN:DAYLIGHT
DTSTART:19700426T030000
TZOFFSETFROM:-0500
TZOFFSETTO:-0400
RRULE:FREQ=YEARLY;BYDAY=-1SU;BYMONTH=4
TZNAME:EDT
END:DAYLIGHT
BEGIN:STANDARD
DTSTART:19701025T010000
TZOFFSETFROM:-0400
TZOFFSETTO:-0500
RRULE:FREQ=YEARLY;BYDAY=-1SU;BYMONTH=10
TZNAME:EST
END:STANDARD
END:VTIMEZONE
BEGIN:VEVENT
DTSTAMP:20210513T084132Z
UID:df8b0203-a053-4b01-8a45-215a67643698
DTSTART;TZID=America/New_York:20160302T120000
DTEND;TZID=America/New_York:20160302T120000
DESCRIPTION:Immediately upon adjournment of the Compensation &amp; Retirement S
 ubcommittee
LOCATION:Appropriations Room
SUMMARY:House Committee Agenda - Appropriations - Capital Outlay Subcommitt
 ee
END:VEVENT
END:VCALENDAR
