BEGIN:VCALENDAR
VERSION:2.0
PRODID:icalendar-ruby
CALSCALE:GREGORIAN
BEGIN:VTIMEZONE
TZID:America/New_York
BEGIN:DAYLIGHT
DTSTART:19700426T030000
TZOFFSETFROM:-0500
TZOFFSETTO:-0400
RRULE:FREQ=YEARLY;BYDAY=-1SU;BYMONTH=4
TZNAME:EDT
END:DAYLIGHT
BEGIN:STANDARD
DTSTART:19701025T010000
TZOFFSETFROM:-0400
TZOFFSETTO:-0500
RRULE:FREQ=YEARLY;BYDAY=-1SU;BYMONTH=10
TZNAME:EST
END:STANDARD
END:VTIMEZONE
BEGIN:VEVENT
DTSTAMP:20210514T114157Z
UID:facc84f4-7917-4059-9067-b65172427fe5
DTSTART;TZID=America/New_York:20170130T150000
DTEND;TZID=America/New_York:20170130T150000
DESCRIPTION:3:00 PM
LOCATION:9th Floor Appropriations Room
SUMMARY:House Committee Agenda - Appropriations - Higher Education Subcommi
 ttee
END:VEVENT
END:VCALENDAR
