BEGIN:VCALENDAR
VERSION:2.0
PRODID:icalendar-ruby
CALSCALE:GREGORIAN
BEGIN:VTIMEZONE
TZID:America/New_York
BEGIN:DAYLIGHT
DTSTART:19700426T030000
TZOFFSETFROM:-0500
TZOFFSETTO:-0400
RRULE:FREQ=YEARLY;BYDAY=-1SU;BYMONTH=4
TZNAME:EDT
END:DAYLIGHT
BEGIN:STANDARD
DTSTART:19701025T010000
TZOFFSETFROM:-0400
TZOFFSETTO:-0500
RRULE:FREQ=YEARLY;BYDAY=-1SU;BYMONTH=10
TZNAME:EST
END:STANDARD
END:VTIMEZONE
BEGIN:VEVENT
DTSTAMP:20210514T114156Z
UID:3bb7fd92-58d9-4177-a8e1-7cd1d615d3f5
DTSTART;TZID=America/New_York:20170201T131500
DTEND;TZID=America/New_York:20170201T131500
DESCRIPTION:15 Minutes After House Ajdournemnt
LOCATION:Appropriations Room
SUMMARY:House Committee Agenda - Appropriations - Higher Education Subcommi
 ttee
END:VEVENT
END:VCALENDAR
