BEGIN:VCALENDAR
VERSION:2.0
PRODID:icalendar-ruby
CALSCALE:GREGORIAN
BEGIN:VTIMEZONE
TZID:America/New_York
BEGIN:DAYLIGHT
DTSTART:19700426T030000
TZOFFSETFROM:-0500
TZOFFSETTO:-0400
RRULE:FREQ=YEARLY;BYDAY=-1SU;BYMONTH=4
TZNAME:EDT
END:DAYLIGHT
BEGIN:STANDARD
DTSTART:19701025T010000
TZOFFSETFROM:-0400
TZOFFSETTO:-0500
RRULE:FREQ=YEARLY;BYDAY=-1SU;BYMONTH=10
TZNAME:EST
END:STANDARD
END:VTIMEZONE
BEGIN:VEVENT
DTSTAMP:20210513T153535Z
UID:efc66801-0d84-42a2-b4e1-f40f00b5638e
DTSTART;TZID=America/New_York:20170216T160000
DTEND;TZID=America/New_York:20170216T160000
DESCRIPTION:4:00 PM
LOCATION:9th Floor Appropriations Room
SUMMARY:House Committee Agenda - Appropriations - Compensation and General 
 Government Subcommittee
END:VEVENT
END:VCALENDAR
